BEGIN:VCALENDAR
VERSION:2.0
PRODID:-//Growing Together Academy - ECPv6.0.13.1//NONSGML v1.0//EN
CALSCALE:GREGORIAN
METHOD:PUBLISH
X-WR-CALNAME:Growing Together Academy
X-ORIGINAL-URL:https://growingtogetheracademy.com
X-WR-CALDESC:Events for Growing Together Academy
REFRESH-INTERVAL;VALUE=DURATION:PT1H
X-Robots-Tag:noindex
X-PUBLISHED-TTL:PT1H
BEGIN:VTIMEZONE
TZID:UTC
BEGIN:STANDARD
TZOFFSETFROM:+0000
TZOFFSETTO:+0000
TZNAME:UTC
DTSTART:20210101T000000
END:STANDARD
END:VTIMEZONE
BEGIN:VEVENT
DTSTART;TZID=UTC:20210408T071533
DTEND;TZID=UTC:20220225T170000
DTSTAMP:20260423T070202
CREATED:20200202T182441Z
LAST-MODIFIED:20200202T182441Z
UID:448-1617866133-1645808400@growingtogetheracademy.com
SUMMARY:Downer Family Fitness Center
DESCRIPTION:
URL:https://growingtogetheracademy.com/event/downer-family-fitness-center/
CATEGORIES:sport
ATTACH;FMTTYPE=image/jpeg:https://growingtogetheracademy.com/wp-content/uploads/2019/09/03.jpg
END:VEVENT
BEGIN:VEVENT
DTSTART;TZID=UTC:20210408T071533
DTEND;TZID=UTC:20230218T170000
DTSTAMP:20260423T070202
CREATED:20170213T094054Z
LAST-MODIFIED:20170213T094054Z
UID:449-1617866133-1676739600@growingtogetheracademy.com
SUMMARY:Board Meeting Students Developed
DESCRIPTION:The Ed School District is in compliance with the U.S. Civil Rights Act of 1964 and the Title IX Educational Amendments of 1972\, Part 86. The School District provides equal employment and educational opportunities to all individuals without regard to race\, color\, creed\, religion\, national origin\, political affiliation\, sex\, sexual orientation\, age\, marital status\, veteran status or disability.
URL:https://growingtogetheracademy.com/event/board-meeting-students-developed/
LOCATION:Jesmerian Moreno
CATEGORIES:sport
ATTACH;FMTTYPE=image/jpeg:https://growingtogetheracademy.com/wp-content/uploads/2017/02/349-pai515383.jpg
END:VEVENT
BEGIN:VEVENT
DTSTART;TZID=UTC:20210408T071534
DTEND;TZID=UTC:20230730T080000
DTSTAMP:20260423T070202
CREATED:20170203T124108Z
LAST-MODIFIED:20170203T124108Z
UID:452-1617866134-1690704000@growingtogetheracademy.com
SUMMARY:Friends of the School
DESCRIPTION:The Ed School District is in compliance with the U.S. Civil Rights Act of 1964 and the Title IX Educational Amendments of 1972\, Part 86. The School District provides equal employment and educational opportunities to all individuals without regard to race\, color\, creed\, religion\, national origin\, political affiliation\, sex\, sexual orientation\, age\, marital status\, veteran status or disability.
URL:https://growingtogetheracademy.com/event/friendsoftheschool/
LOCATION:Untitled-2
CATEGORIES:School
ATTACH;FMTTYPE=image/jpeg:https://growingtogetheracademy.com/wp-content/uploads/2017/02/event-03.jpg
END:VEVENT
BEGIN:VEVENT
DTSTART;TZID=UTC:20210408T071534
DTEND;TZID=UTC:20230802T080000
DTSTAMP:20260423T070202
CREATED:20170208T124226Z
LAST-MODIFIED:20170208T124226Z
UID:451-1617866134-1690963200@growingtogetheracademy.com
SUMMARY:Open Day In this Middle School Environment
DESCRIPTION:The Ed School District is in compliance with the U.S. Civil Rights Act of 1964 and the Title IX Educational Amendments of 1972\, Part 86. The School District provides equal employment and educational opportunities to all individuals without regard to race\, color\, creed\, religion\, national origin\, political affiliation\, sex\, sexual orientation\, age\, marital status\, veteran status or disability.
URL:https://growingtogetheracademy.com/event/open-day-in-this-middle-school-environment/
LOCATION:Jesmerian Moreno
CATEGORIES:School
ATTACH;FMTTYPE=image/jpeg:https://growingtogetheracademy.com/wp-content/uploads/2019/09/02.jpg
END:VEVENT
BEGIN:VEVENT
DTSTART;TZID=UTC:20210408T071534
DTEND;TZID=UTC:20240913T235900
DTSTAMP:20260423T070202
CREATED:20170208T124325Z
LAST-MODIFIED:20170208T124325Z
UID:450-1617866134-1726271940@growingtogetheracademy.com
SUMMARY:Our Curriculum how to build a complete
DESCRIPTION:The Ed School District is in compliance with the U.S. Civil Rights Act of 1964 and the Title IX Educational Amendments of 1972\, Part 86. The School District provides equal employment and educational opportunities to all individuals without regard to race\, color\, creed\, religion\, national origin\, political affiliation\, sex\, sexual orientation\, age\, marital status\, veteran status or disability.
URL:https://growingtogetheracademy.com/event/our-curriculum-how-to-build-a-complete/
LOCATION:Untitled-2
CATEGORIES:School
ATTACH;FMTTYPE=image/jpeg:https://growingtogetheracademy.com/wp-content/uploads/2017/02/011.jpg
END:VEVENT
END:VCALENDAR